BEGIN:VCALENDAR
VERSION:2.0
PRODID:-//ChamberMaster//Event Calendar 2.0//EN
METHOD:PUBLISH
X-PUBLISHED-TTL:P3D
REFRESH-INTERVAL:P3D
CALSCALE:GREGORIAN
BEGIN:VEVENT
DTSTART:20151117T223000Z
DTEND:20151118T003000Z
X-MICROSOFT-CDO-ALLDAYEVENT:FALSE
SUMMARY:RC for J & M Real Estate Group Grand Opening
DESCRIPTION:Grand Opening!
X-ALT-DESC;FMTTYPE=text/html:Grand Opening!
LOCATION:319 Dakota Dunes Blvd.
UID:e.769.2181
SEQUENCE:3
DTSTAMP:20260421T143605Z
URL:https://directory.siouxlandchamber.com/events/details/rc-for-j-m-real-estate-group-grand-opening-11-17-2015-2181
END:VEVENT

END:VCALENDAR
