BEGIN:VCALENDAR
VERSION:2.0
PRODID:-//ChamberMaster//Event Calendar 2.0//EN
METHOD:PUBLISH
X-PUBLISHED-TTL:P3D
REFRESH-INTERVAL:P3D
CALSCALE:GREGORIAN
BEGIN:VEVENT
DTSTART:20160128T233000Z
DTEND:20160129T000000Z
X-MICROSOFT-CDO-ALLDAYEVENT:FALSE
SUMMARY:RC - Dream Dress Express\, a Division of Tip Top Tux
DESCRIPTION:In celebration of their new division\, Dream Dress Express\, Tip Top Tux is holding a Ribbon Cutting along with an Open House.
X-ALT-DESC;FMTTYPE=text/html:In celebration of their new division\, Dream Dress Express\, Tip Top Tux is holding a Ribbon Cutting along with an Open House.
LOCATION:500 Floyd Blvd Sioux City
UID:e.769.2204
SEQUENCE:3
DTSTAMP:20260421T160422Z
URL:https://directory.siouxlandchamber.com/events/details/rc-dream-dress-express-a-division-of-tip-top-tux-01-28-2016-2204
END:VEVENT

END:VCALENDAR
