BEGIN:VCALENDAR
VERSION:2.0
PRODID:-//ChamberMaster//Event Calendar 2.0//EN
METHOD:PUBLISH
X-PUBLISHED-TTL:P3D
REFRESH-INTERVAL:P3D
CALSCALE:GREGORIAN
BEGIN:VEVENT
DTSTART:20170405T153000Z
DTEND:20170405T160000Z
X-MICROSOFT-CDO-ALLDAYEVENT:FALSE
SUMMARY:RC - Countryside Health Care Center
DESCRIPTION:We will give the official Chamber welcome to new member Countryside Health Care Center with a ribbon cutting ceremony and open house with refreshments.  Countryside Health Care Center is a privately-owned skilled nursing and rehabilitation facility that offers a full spectrum of post-hospitalization care including TruRehab therapy services\, short-term skilled care\, long term care and Independent Living.
X-ALT-DESC;FMTTYPE=text/html:We will give the official Chamber welcome to new member Countryside Health Care Center with a ribbon cutting ceremony and open house with refreshments. &nbsp\;Countryside Health Care Center is a privately-owned skilled nursing and rehabilitation facility that offers a full spectrum of post-hospitalization care including TruRehab therapy services\, short-term skilled care\, long term care and Independent Living. &nbsp\;
LOCATION:6120 Morningside Avenue Sioux City
UID:e.769.3457
SEQUENCE:3
DTSTAMP:20260419T213114Z
URL:https://directory.siouxlandchamber.com/events/details/rc-countryside-health-care-center-3457
END:VEVENT

END:VCALENDAR
