BEGIN:VCALENDAR
VERSION:2.0
PRODID:-//ChamberMaster//Event Calendar 2.0//EN
METHOD:PUBLISH
X-PUBLISHED-TTL:P3D
REFRESH-INTERVAL:P3D
CALSCALE:GREGORIAN
BEGIN:VEVENT
DTSTART:20151119T220000Z
DTEND:20151120T010000Z
X-MICROSOFT-CDO-ALLDAYEVENT:FALSE
SUMMARY:RC 1 Psychiatry\, P.C.
DESCRIPTION:Ribbon Cutting at 4:00\n\nOpen House 4:00 - 7:00
X-ALT-DESC;FMTTYPE=text/html:Ribbon Cutting at 4:00<br />\nOpen House 4:00 -&nbsp\;7:00
LOCATION:211 Sioux Point Road\, Suite 300 Dakota Dunes\, SD 57049
UID:e.769.2176
SEQUENCE:3
DTSTAMP:20260421T131125Z
URL:https://directory.siouxlandchamber.com/events/details/rc-1-psychiatry-p-c-11-19-2015-2176
END:VEVENT

END:VCALENDAR
