BEGIN:VCALENDAR
VERSION:2.0
PRODID:-//ChamberMaster//Event Calendar 2.0//EN
METHOD:PUBLISH
X-PUBLISHED-TTL:P3D
REFRESH-INTERVAL:P3D
CALSCALE:GREGORIAN
BEGIN:VEVENT
DTSTART:20170518T160000Z
DTEND:20170518T163000Z
X-MICROSOFT-CDO-ALLDAYEVENT:FALSE
SUMMARY:Press Conference - Fridays on the Promenade
DESCRIPTION:There will be a press conference held on Thursday\, May 18 at 11:00 a.m. at the Sioux City Public Museum to announce the 2017 Downtown LIVE outdoor concert series brought to you by Fridays on the Promenade. \n\n \n\nWeather permitting\, we will be holding it outside on the lawn. Press packets and graphics will be sent electronically and handed out on site as well.
X-ALT-DESC;FMTTYPE=text/html:<span style="font-family:verdana\,sans-serif\;"><span style="font-size:12.0pt\;">There will be a press conference held on Thursday\, May 18 at 11:00 a.m. at the Sioux City Public Museum to announce the 2017 Downtown LIVE outdoor concert series brought to you by Fridays on the Promenade.&nbsp\;</span></span><br />\n&nbsp\;<br />\n<span style="font-family:verdana\,sans-serif\;"><span style="font-size:12.0pt\;">Weather permitting\, we will be holding it outside on the lawn. Press packets and graphics will be sent electronically and handed out on site as well.</span></span>
LOCATION:Sioux City Public Museum 607 4th Street
UID:e.769.3502
SEQUENCE:3
DTSTAMP:20260419T213018Z
URL:https://directory.siouxlandchamber.com/events/details/press-conference-fridays-on-the-promenade-3502
END:VEVENT

END:VCALENDAR
