BEGIN:VCALENDAR
VERSION:2.0
PRODID:-//ChamberMaster//Event Calendar 2.0//EN
METHOD:PUBLISH
X-PUBLISHED-TTL:P3D
REFRESH-INTERVAL:P3D
CALSCALE:GREGORIAN
BEGIN:VEVENT
DTSTART:20190205T180000Z
DTEND:20190206T210000Z
X-MICROSOFT-CDO-ALLDAYEVENT:FALSE
SUMMARY:Pierre Legislative Days 2019 - 20th Annual
DESCRIPTION:The 2019 South Dakota Legislature will discuss many issues that could impact your business.  Take advantage of this opportunity.  A block of rooms has been reserved for the night of February 5\, 2019 at the ClubHouse Suites for our group at the rate of $137.00 (queen/queen) plus tax.  To use the block of rooms call for your reservation (605.494.2582) stating you are with the Dakota Valley Business Council by January 11\, 2019.  \n\n\n\nPlease complete the registration form and send by fax to 712.258.7578 or e-mail your registration to Teresa by January 11\, 2019.
X-ALT-DESC;FMTTYPE=text/html:The 2019 South Dakota Legislature will discuss many issues that could impact your business.&nbsp\; Take advantage of this opportunity.&nbsp\; A block of rooms has been reserved for the night of February 5\, 2019 at the ClubHouse Suites for our group at the rate of $137.00 (queen/queen) plus tax.&nbsp\; To use the block of rooms call for your reservation (605.494.2582) stating you are with the Dakota Valley Business Council by January 11\, 2019.&nbsp\;&nbsp\;<br />\n<br />\nPlease complete the <a href="http://siouxlandchamber.com/wp-content/uploads/19PierreDayRegistrationForm-1.pdf"><span style="color:#0099ff\;">registration form</span></a> and send by fax to 712.258.7578 or e-mail your registration to <a href="mailto:trosenboom@siouxlandchamber.com?subject=2019%20Pierre%20Days%20Registration"><span style="color:#3399ff\;">Teresa</span></a> by January 11\, 2019.
LOCATION:
UID:e.769.4890
SEQUENCE:3
DTSTAMP:20260421T045601Z
URL:https://directory.siouxlandchamber.com/events/details/pierre-legislative-days-2019-20th-annual-4890
END:VEVENT

END:VCALENDAR
