BEGIN:VCALENDAR
VERSION:2.0
PRODID:-//ChamberMaster//Event Calendar 2.0//EN
METHOD:PUBLISH
X-PUBLISHED-TTL:P3D
REFRESH-INTERVAL:P3D
CALSCALE:GREGORIAN
BEGIN:VEVENT
DTSTART:20161216T130000Z
DTEND:20161216T140000Z
X-MICROSOFT-CDO-ALLDAYEVENT:FALSE
SUMMARY:No Meeting - Government Relations 12/16/16
DESCRIPTION:There is no meeting of the Government Relations Committee on December 16th. See you in 2017!
X-ALT-DESC;FMTTYPE=text/html:<font face="arial">There is no meeting of the Government Relations Committee on December 16th. See you in 2017!</font>
LOCATION:Siouxland Chamber of Commerce 101 Pierce Street\, Sioux City\, IA
UID:e.769.3423
SEQUENCE:3
DTSTAMP:20260419T134633Z
URL:https://directory.siouxlandchamber.com/events/details/no-meeting-government-relations-12-16-16-3423
END:VEVENT

END:VCALENDAR
