BEGIN:VCALENDAR
VERSION:2.0
PRODID:-//ChamberMaster//Event Calendar 2.0//EN
METHOD:PUBLISH
X-PUBLISHED-TTL:P3D
REFRESH-INTERVAL:P3D
CALSCALE:GREGORIAN
BEGIN:VEVENT
DTSTART;VALUE=DATE:20161209
DTEND;VALUE=DATE:20161210
TRANSP:TRANSPARENT
X-MICROSOFT-CDO-ALLDAYEVENT:TRUE
SUMMARY:No meeting - Community Enhancement Dec 9 2016
DESCRIPTION:NO COMMUNITY ENHANCEMENT MEETING IN DECEMBER
X-ALT-DESC;FMTTYPE=text/html:NO COMMUNITY ENHANCEMENT MEETING IN DECEMBER
LOCATION:
UID:e.769.3233
SEQUENCE:3
DTSTAMP:20260419T134801Z
URL:https://directory.siouxlandchamber.com/events/details/no-meeting-community-enhancement-dec-9-2016-12-09-2016-3233
END:VEVENT

END:VCALENDAR
