BEGIN:VCALENDAR
VERSION:2.0
PRODID:-//ChamberMaster//Event Calendar 2.0//EN
METHOD:PUBLISH
X-PUBLISHED-TTL:P3D
REFRESH-INTERVAL:P3D
CALSCALE:GREGORIAN
BEGIN:VEVENT
DTSTART:20190226T230000Z
DTEND:20190227T020000Z
X-MICROSOFT-CDO-ALLDAYEVENT:FALSE
SUMMARY:Key Leadership Welcome Dinner
DESCRIPTION:Save the Date\n\n\n\nKey Leadership\n\nWelcome Dinner\n\n(formerly Key Executive Welcome Dinner)\n\n\n\nTuesday\, February 26th\n\nHilton Garden Inn \n\n5:00 PM Social Hour\n\n6:00 PM Dinner & Program\n\n\n\nMore information to follow
X-ALT-DESC;FMTTYPE=text/html:<div style="text-align: center\;"><span style="color:#696969\;"><span style="font-size:24px\;"><span style="font-family:verdana\;">Save the Date</span></span></span><br />\n<br />\n<strong><span style="color:#800000\;"><span style="font-size:24px\;">Key Leadership<br />\nWelcome Dinner</span></span></strong><br />\n<span style="color:#696969\;">(formerly Key Executive Welcome Dinner)<br />\n<br />\n<span style="font-size:16px\;">Tuesday\, February 26th</span></span><br />\n<span style="color:#800000\;"><span style="font-size:16px\;"><span style="font-size:20px\;"><strong>Hilton Garden Inn</strong>&nbsp\;</span></span></span><br />\n<span style="color:#696969\;"><span style="font-size:16px\;">5:00 PM Social Hour<br />\n6:00 PM Dinner &amp\; Program</span><br />\n<br />\nMore information to follow</span></div>\n
LOCATION:Hilton Garden Inn 1132 Larsen Park Road Sioux City
UID:e.769.4893
SEQUENCE:3
DTSTAMP:20260421T045433Z
URL:https://directory.siouxlandchamber.com/events/details/key-leadership-welcome-dinner-4893
END:VEVENT

END:VCALENDAR
