BEGIN:VCALENDAR
VERSION:2.0
PRODID:-//ChamberMaster//Event Calendar 2.0//EN
METHOD:PUBLISH
X-PUBLISHED-TTL:P3D
REFRESH-INTERVAL:P3D
CALSCALE:GREGORIAN
BEGIN:VEVENT
DTSTART:20220803T150000Z
DTEND:20220803T153000Z
X-MICROSOFT-CDO-ALLDAYEVENT:FALSE
SUMMARY:Groundbreaking - Telco Triad Community Credit Union
DESCRIPTION:Join us for the groundbreaking of Telco Triad Community Credit Union's new building. \n\n\n\nTheir current building is located at 1420 Tri View Ave and was built in 1964. Once the new building is completed and they're all moved in\, this new building will become their main branch. The new building will include the following:\n\n	18\,000 square feet\n	More electronic services\n	ADA Compliant building\n	Call center\n	Training/Community Room\n	Mortgage area\n	More private offices
X-ALT-DESC;FMTTYPE=text/html:Join us for the groundbreaking of Telco Triad Community Credit Union&#39\;s new building.&nbsp\;<br />\n<br />\nTheir current building is located at 1420 Tri View Ave and was built in 1964. Once the new building is completed and they&#39\;re all moved in\, this new building will become their main branch. The new building will include the following:\n<ul>\n	<li style="margin-left:0in\;">18\,000 square feet</li>\n	<li style="margin-left:0in\;">More electronic services</li>\n	<li style="margin-left:0in\;">ADA Compliant building</li>\n	<li style="margin-left:0in\;">Call center</li>\n	<li style="margin-left:0in\;">Training/Community Room</li>\n	<li style="margin-left:0in\;">Mortgage area</li>\n	<li style="margin-left:0in\;">More private offices</li>\n</ul>\n
LOCATION:3098 Floyd Boulevard Sioux City\, IA 51108
UID:e.769.5841
SEQUENCE:3
DTSTAMP:20260420T003340Z
URL:https://directory.siouxlandchamber.com/events/details/groundbreaking-telco-triad-community-credit-union-5841
END:VEVENT

END:VCALENDAR
