BEGIN:VCALENDAR
VERSION:2.0
PRODID:-//ChamberMaster//Event Calendar 2.0//EN
METHOD:PUBLISH
X-PUBLISHED-TTL:P3D
REFRESH-INTERVAL:P3D
CALSCALE:GREGORIAN
BEGIN:VEVENT
DTSTART:20170713T150000Z
DTEND:20170713T153000Z
X-MICROSOFT-CDO-ALLDAYEVENT:FALSE
SUMMARY:Ground Breaking - Siouxland Federal Credit Union
DESCRIPTION:The Siouxland Chamber of Commerce invites you to Siouxland Federal Credit Union's  groundbreaking ceremony as they begin construction on their new Dakota Dunes branch.
X-ALT-DESC;FMTTYPE=text/html:The Siouxland&nbsp\;Chamber of Commerce invites you to Siouxland&nbsp\;Federal Credit Union&#39\;s&nbsp\;&nbsp\;groundbreaking ceremony as they begin construction on their new Dakota Dunes branch. &nbsp\;
LOCATION:327 Dakota Dunes Boulevard Dakota Dunes\, SD
UID:e.769.3530
SEQUENCE:3
DTSTAMP:20260420T003559Z
URL:https://directory.siouxlandchamber.com/events/details/ground-breaking-siouxland-federal-credit-union-3530
END:VEVENT

END:VCALENDAR
