BEGIN:VCALENDAR
VERSION:2.0
PRODID:-//ChamberMaster//Event Calendar 2.0//EN
METHOD:PUBLISH
X-PUBLISHED-TTL:P3D
REFRESH-INTERVAL:P3D
CALSCALE:GREGORIAN
BEGIN:VEVENT
DTSTART:20200417T151500Z
DTEND:20200417T154500Z
X-MICROSOFT-CDO-ALLDAYEVENT:FALSE
SUMMARY:Ground Breaking - Sioux City Pizza Ranch - POSTPONED
DESCRIPTION:Please join us for a Ground Breaking with Siouxland Chamber of Commerce member\, Sioux City Pizza Ranch. The ground breaking will be held during South Sioux City Chamber Coffee Hour. Ground Breaking at 10:15. Coffee Hour from 9:30-10:30.
X-ALT-DESC;FMTTYPE=text/html:Please join us for a Ground Breaking with Siouxland Chamber of Commerce member\, Sioux City Pizza Ranch. The ground breaking will be held during South Sioux City Chamber Coffee Hour. Ground Breaking at 10:15. Coffee Hour from 9:30-10:30.
LOCATION:3116 Floyd Blvd Sioux City\, IA 51108
UID:e.769.5368
SEQUENCE:3
DTSTAMP:20260421T184637Z
URL:https://directory.siouxlandchamber.com/events/details/ground-breaking-sioux-city-pizza-ranch-postponed-5368
END:VEVENT

END:VCALENDAR
