BEGIN:VCALENDAR
VERSION:2.0
PRODID:-//ChamberMaster//Event Calendar 2.0//EN
METHOD:PUBLISH
X-PUBLISHED-TTL:P3D
REFRESH-INTERVAL:P3D
CALSCALE:GREGORIAN
BEGIN:VEVENT
DTSTART:20171026T160000Z
DTEND:20171026T163000Z
X-MICROSOFT-CDO-ALLDAYEVENT:FALSE
SUMMARY:Ground Breaking - Sioux City Art Center
DESCRIPTION:The Sioux City Art Center invites you to celebrate with them when they officially break ground on the Gilchrist Learning Center.  The new 11\,400 square foot Learning Center will include classsroom and studio space providing for more exhibit space in the Art Center's main building in the future.  Please join us at the corner of 3rd and Pierce Streets.  A short reception will follow in the Art Center.
X-ALT-DESC;FMTTYPE=text/html:The Sioux City Art Center invites you to celebrate with them when they officially break ground on the Gilchrist Learning Center.&nbsp\; The new 11\,400 square foot Learning Center will include classsroom and studio space providing for more exhibit space in the Art Center&#39\;s main building in the future.&nbsp\; Please join us at the corner of 3rd and Pierce Streets.&nbsp\; A short reception will follow in the Art Center.<br />\n<br />\n&nbsp\;
LOCATION:3rd & Pierce Streets Sioux City
UID:e.769.4594
SEQUENCE:3
DTSTAMP:20260420T045957Z
URL:https://directory.siouxlandchamber.com/events/details/ground-breaking-sioux-city-art-center-4594
END:VEVENT

END:VCALENDAR
