BEGIN:VCALENDAR
VERSION:2.0
PRODID:-//ChamberMaster//Event Calendar 2.0//EN
METHOD:PUBLISH
X-PUBLISHED-TTL:P3D
REFRESH-INTERVAL:P3D
CALSCALE:GREGORIAN
BEGIN:VEVENT
DTSTART:20191024T153000Z
DTEND:20191024T160000Z
X-MICROSOFT-CDO-ALLDAYEVENT:FALSE
SUMMARY:Ground Breaking - NAI United\, United Real Estate Solutions\, & Connelly Development
DESCRIPTION:Please join us in celebrating Siouxland Chamber members\, NAI United\, United Real Estate Solutions\, and Connelly Development\, at the ground breaking ceremony for their new housing development.
X-ALT-DESC;FMTTYPE=text/html:Please join us in celebrating Siouxland Chamber members\, NAI United\, United Real Estate Solutions\, and Connelly Development\, at the ground breaking ceremony for their new housing development.
LOCATION:Lakeshore Circle and Southlake Blvd North Sioux City\, SD (turn left from Streeter Dr.\, just north of the Days Inn)
UID:e.769.5219
SEQUENCE:3
DTSTAMP:20260421T165018Z
URL:https://directory.siouxlandchamber.com/events/details/ground-breaking-nai-united-united-real-estate-solutions-connelly-development-5219
END:VEVENT

END:VCALENDAR
