BEGIN:VCALENDAR
VERSION:2.0
PRODID:-//ChamberMaster//Event Calendar 2.0//EN
METHOD:PUBLISH
X-PUBLISHED-TTL:P3D
REFRESH-INTERVAL:P3D
CALSCALE:GREGORIAN
BEGIN:VEVENT
DTSTART:20150708T150000Z
DTEND:20150708T160000Z
X-MICROSOFT-CDO-ALLDAYEVENT:FALSE
SUMMARY:Ground Breaking for Siouxland Community Christian School
DESCRIPTION:A ground breaking will be held for Siouxland Community Christian School.
X-ALT-DESC;FMTTYPE=text/html:A ground breaking will be held for Siouxland Community Christian School.
LOCATION:6000 Gordon Drive (site of the old Cornerstone property)
UID:e.769.2138
SEQUENCE:3
DTSTAMP:20260421T143530Z
URL:https://directory.siouxlandchamber.com/events/details/ground-breaking-for-siouxland-community-christian-school-07-08-2015-2138
END:VEVENT

END:VCALENDAR
