BEGIN:VCALENDAR
VERSION:2.0
PRODID:-//ChamberMaster//Event Calendar 2.0//EN
METHOD:PUBLISH
X-PUBLISHED-TTL:P3D
REFRESH-INTERVAL:P3D
CALSCALE:GREGORIAN
BEGIN:VEVENT
DTSTART:20150527T150000Z
DTEND:20150527T153000Z
X-MICROSOFT-CDO-ALLDAYEVENT:FALSE
SUMMARY:Ground Breaking for Miracle Field
DESCRIPTION:A Ground Breaking will be held for the beginning of the Miracle Field project.
X-ALT-DESC;FMTTYPE=text/html:A Ground Breaking will be held for the beginning of the Miracle Field project.
LOCATION:Enter Riverside Park across from the Cassey's General Store and go left. Continue until you are at the back side of Riverside Park.
UID:e.769.2117
SEQUENCE:3
DTSTAMP:20260421T184406Z
URL:https://directory.siouxlandchamber.com/events/details/ground-breaking-for-miracle-field-05-27-2015-2117
END:VEVENT

END:VCALENDAR
