BEGIN:VCALENDAR
VERSION:2.0
PRODID:-//ChamberMaster//Event Calendar 2.0//EN
METHOD:PUBLISH
X-PUBLISHED-TTL:P3D
REFRESH-INTERVAL:P3D
CALSCALE:GREGORIAN
BEGIN:VEVENT
DTSTART:20171009T210000Z
DTEND:20171009T213000Z
X-MICROSOFT-CDO-ALLDAYEVENT:FALSE
SUMMARY:Ground Breaking - Camp High Hopes Welcome Center
DESCRIPTION:Please join Camp High Hopes for the exciting Groundbreaking Celebration of their much-needed and anticipated Welcome Center.  Brown-Wegher will serve as General Contractor for the project in conjunction with FEH Design and they look forward to bringing this project to fruition to serve youths and adults with diagnosed disabilities\, chronic illnesses\, and other special needs and their families.
X-ALT-DESC;FMTTYPE=text/html:Please join Camp High Hopes for the exciting Groundbreaking Celebration of their much-needed and anticipated Welcome Center. &nbsp\;Brown-Wegher will serve as General Contractor for the project in conjunction with FEH Design and they look forward to bringing this project to fruition to serve youths and adults with diagnosed disabilities\, chronic illnesses\, and other special needs and their families.
LOCATION:5804 Correctionville Road Sioux City
UID:e.769.4575
SEQUENCE:3
DTSTAMP:20260420T044857Z
URL:https://directory.siouxlandchamber.com/events/details/ground-breaking-camp-high-hopes-welcome-center-4575
END:VEVENT

END:VCALENDAR
