BEGIN:VCALENDAR
VERSION:2.0
PRODID:-//ChamberMaster//Event Calendar 2.0//EN
METHOD:PUBLISH
X-PUBLISHED-TTL:P3D
REFRESH-INTERVAL:P3D
CALSCALE:GREGORIAN
BEGIN:VEVENT
DTSTART:20170608T163000Z
DTEND:20170608T170000Z
X-MICROSOFT-CDO-ALLDAYEVENT:FALSE
SUMMARY:Ground Breaking - Bruening Eye Specialists\, Sunnybrook Center
DESCRIPTION:A groundbreaking ceremony will be held for Sunnybrook Center followed by lunch.  Bruening Eye Specialists plans to construct the new two story building to be home to their second location which will be on the second floor and they hope to attract additional medical or office-type tenants.
X-ALT-DESC;FMTTYPE=text/html:A groundbreaking ceremony will be held for Sunnybrook Center followed by lunch. &nbsp\;Bruening&nbsp\;Eye Specialists plans to construct the new two story building to be home to their second location which will be on the second floor and they hope to attract additional medical or office-type tenants.
LOCATION:5500 Sergeant Road (west of BioLife) Sioux City
UID:e.769.3505
SEQUENCE:3
DTSTAMP:20260419T230659Z
URL:https://directory.siouxlandchamber.com/events/details/ground-breaking-bruening-eye-specialists-sunnybrook-center-3505
END:VEVENT

END:VCALENDAR
