BEGIN:VCALENDAR
VERSION:2.0
PRODID:-//ChamberMaster//Event Calendar 2.0//EN
METHOD:PUBLISH
X-PUBLISHED-TTL:P3D
REFRESH-INTERVAL:P3D
CALSCALE:GREGORIAN
BEGIN:VEVENT
DTSTART:20160219T173000Z
DTEND:20160219T180000Z
X-MICROSOFT-CDO-ALLDAYEVENT:FALSE
SUMMARY:Ground Breaking - Braunger Food Service
DESCRIPTION:Braunger Food Service is celebrating their upcoming relocation and expansion with a groundbreaking ceremony.
X-ALT-DESC;FMTTYPE=text/html:Braunger Food Service is celebrating their upcoming relocation and expansion with a groundbreaking ceremony.
LOCATION:2101 Murray Street Sioux City
UID:e.769.3223
SEQUENCE:3
DTSTAMP:20260421T174202Z
URL:https://directory.siouxlandchamber.com/events/details/ground-breaking-braunger-food-service-02-19-2016-3223
END:VEVENT

END:VCALENDAR
