BEGIN:VCALENDAR
VERSION:2.0
PRODID:-//ChamberMaster//Event Calendar 2.0//EN
METHOD:PUBLISH
X-PUBLISHED-TTL:P3D
REFRESH-INTERVAL:P3D
CALSCALE:GREGORIAN
BEGIN:VEVENT
DTSTART:20181019T193000Z
DTEND:20181019T200000Z
X-MICROSOFT-CDO-ALLDAYEVENT:FALSE
SUMMARY:Ground Breaking - Bishop Heelan Gymnasium
DESCRIPTION:Bishop Heelan is proud to announce the official ground breaking ceremony for the new gymnasium where events from sports to student assemblies to music competitions will take place.  Other features include a running and walking track\, locker rooms\, coaches' offices and athletic training and first aid room.  We hope you can join us and congratulate Bishop Heelan as they commence on the third phase of the new Heelan High School.
X-ALT-DESC;FMTTYPE=text/html:Bishop Heelan is proud to announce the official ground breaking ceremony for the new gymnasium where events from sports to student assemblies to music competitions will take place.&nbsp\; Other features include a running and walking track\, locker rooms\, coaches&#39\; offices and athletic training and first aid room.&nbsp\; We hope you can join us and congratulate Bishop Heelan as they commence on the third phase of the new Heelan High School.
LOCATION:1231 Grandview Blvd. Sioux City\, IA
UID:e.769.4843
SEQUENCE:3
DTSTAMP:20260420T225039Z
URL:https://directory.siouxlandchamber.com/events/details/ground-breaking-bishop-heelan-gymnasium-4843
END:VEVENT

END:VCALENDAR
