BEGIN:VCALENDAR
VERSION:2.0
PRODID:-//ChamberMaster//Event Calendar 2.0//EN
METHOD:PUBLISH
X-PUBLISHED-TTL:P3D
REFRESH-INTERVAL:P3D
CALSCALE:GREGORIAN
BEGIN:VEVENT
DTSTART:20230210T130000Z
DTEND:20230210T140000Z
X-MICROSOFT-CDO-ALLDAYEVENT:FALSE
SUMMARY:Government Relations Meeting
DESCRIPTION:Due to a last minute scheduling issue\,\n\nSenate President Amy Sinclair will be unable\n\nto join us for this meeting.  We are working to\n\nreschedule her for a later date.\n\nHowever\, Representatives Bob Henderson and\n\nJacob Bossman will be our guest speakers to give \n\nupdates for the 2023 Legislative Session.  \n\n\n\nYou are welcome to join us in person or via Zoom.\n\nPlease register to receive the Zoom information\n\nin a confirmation email.
X-ALT-DESC;FMTTYPE=text/html:<div><span style="color: rgb(64\, 63\, 66)\;"><span style="font-family: arial\,sans-serif\;">Due to a last minute scheduling issue\,<br />\nSenate President Amy Sinclair&nbsp\;will be unable<br />\nto join us for this meeting.&nbsp\; We are working to<br />\nreschedule her for a later date.<br />\nHowever\, Representatives Bob Henderson and<br />\nJacob Bossman will be our guest speakers to give&nbsp\;<br />\nupdates for the 2023 Legislative Session.&nbsp\;&nbsp\;<br />\n<br />\nYou are welcome to join us in person or via Zoom.<br />\nPlease register to receive the Zoom information<br />\nin a confirmation email.&nbsp\;&nbsp\;</span></span></div>\n
LOCATION:Siouxland Chamber of Commerce 101 Pierce St.
UID:e.769.5969
SEQUENCE:3
DTSTAMP:20260419T151241Z
URL:https://directory.siouxlandchamber.com/events/details/government-relations-meeting-5969
END:VEVENT

END:VCALENDAR
