BEGIN:VCALENDAR
VERSION:2.0
PRODID:-//ChamberMaster//Event Calendar 2.0//EN
METHOD:PUBLISH
X-PUBLISHED-TTL:P3D
REFRESH-INTERVAL:P3D
CALSCALE:GREGORIAN
BEGIN:VEVENT
DTSTART:20221118T130000Z
DTEND:20221118T140000Z
X-MICROSOFT-CDO-ALLDAYEVENT:FALSE
SUMMARY:Government Relations Meeting 11/18/2022
DESCRIPTION:Join us in person as we finalize the 2023 Iowa legislative agenda for the upcoming session. Lots of discussion of the issues while we craft the Chamber's policy positions.
X-ALT-DESC;FMTTYPE=text/html:<span style="background:white\;"><span style="color:#333333\;"><span style="font-family:arial\,sans-serif\;"><span style="font-size:12.0pt\;">Join us in person as we finalize the 2023 Iowa legislative agenda for the upcoming session. Lots of discussion of the issues while we craft the Chamber&#39\;s policy positions.</span></span></span></span><br />\n&nbsp\;
LOCATION:Siouxland Chamber of Commerce
UID:e.769.5895
SEQUENCE:3
DTSTAMP:20260419T195814Z
URL:https://directory.siouxlandchamber.com/events/details/government-relations-meeting-11-18-2022-5895
END:VEVENT

END:VCALENDAR
