BEGIN:VCALENDAR
VERSION:2.0
PRODID:-//ChamberMaster//Event Calendar 2.0//EN
METHOD:PUBLISH
X-PUBLISHED-TTL:P3D
REFRESH-INTERVAL:P3D
CALSCALE:GREGORIAN
BEGIN:VEVENT
DTSTART:20221021T120000Z
DTEND:20221021T130000Z
X-MICROSOFT-CDO-ALLDAYEVENT:FALSE
SUMMARY:Government Relations Meeting 10/21/2022
DESCRIPTION:Join us in person as we review the results of the 2023 Iowa Legislative Survey and draft the Chamber Legislative Agenda for the upcoming session.  There will be a lot of discussion on the issues while we craft the Chamber's policy positions.
X-ALT-DESC;FMTTYPE=text/html:<span style="font-size:16px\;">Join us in person as we review the results of the 2023 Iowa Legislative Survey and draft the Chamber Legislative Agenda for the upcoming session.&nbsp\; There will be a lot of discussion on the issues while we craft the Chamber&#39\;s policy positions.&nbsp\;&nbsp\;</span>
LOCATION:Siouxland Chamber of Commerce 101 Pierce St Sioux City\, IA
UID:e.769.5881
SEQUENCE:3
DTSTAMP:20260419T212957Z
URL:https://directory.siouxlandchamber.com/events/details/government-relations-meeting-10-21-2022-5881
END:VEVENT

END:VCALENDAR
