BEGIN:VCALENDAR
VERSION:2.0
PRODID:-//ChamberMaster//Event Calendar 2.0//EN
METHOD:PUBLISH
X-PUBLISHED-TTL:P3D
REFRESH-INTERVAL:P3D
CALSCALE:GREGORIAN
BEGIN:VEVENT
DTSTART:20151009T120000Z
DTEND:20151009T130000Z
X-MICROSOFT-CDO-ALLDAYEVENT:FALSE
SUMMARY:Government Relations Committee 10/9/15
DESCRIPTION:Join us as Iowa State Auditor Mary Mosiman will present on the Iowa budget and state finances. With the Iowa budget landscape changing year to year\, Auditor Mosiman will provide important information for understanding how Iowa budget considerations will inform policy debates during the 2016 session.
X-ALT-DESC;FMTTYPE=text/html:<span style="font-family:arial\;">&nbsp\;</span>\n\n<div style="text-align:center\;"><font color="#000000" face="arial"><span style="font-size: 15px\; line-height: 23.466667175293px\;">Join us as Iowa State Auditor Mary Mosiman will present on the Iowa budget and state finances. With the Iowa budget landscape changing year to year\, Auditor Mosiman&nbsp\;will provide important information for understanding how Iowa budget considerations&nbsp\;will inform policy debates during the 2016 session.</span></font></div>\n
LOCATION:Siouxland Chamber of Commerce 101 Pierce Street\, Sioux City\, IA
UID:e.769.2172
SEQUENCE:3
DTSTAMP:20260421T114629Z
URL:https://directory.siouxlandchamber.com/events/details/government-relations-committee-10-9-15-10-09-2015-2172
END:VEVENT

END:VCALENDAR
