BEGIN:VCALENDAR
VERSION:2.0
PRODID:-//ChamberMaster//Event Calendar 2.0//EN
METHOD:PUBLISH
X-PUBLISHED-TTL:P3D
REFRESH-INTERVAL:P3D
CALSCALE:GREGORIAN
BEGIN:VEVENT
DTSTART:20170908T120000Z
DTEND:20170908T130000Z
X-MICROSOFT-CDO-ALLDAYEVENT:FALSE
SUMMARY:Government Relations 9/8/17
DESCRIPTION:The first Government Relations Committee meeting for the 2017-18 cycle is almost upon us. To kick things off\, Rep. Chris Hall\, ranking minority member of the House Appropriations Committee\, will provide us with an overview of the state budget. With a special legislative session possible\, Rep. Hall will help us make sense of where we stand with the FY17 budget\, the current FY18 budget\, and how the Legislature might approach the FY19 budget during the next session.\n\n \n\nWe will also map out the next several committee meetings and plan the development of the Chamber's 2018 Legislative Agenda.\n\n\n\nFinally\, please welcome Lesley Bartholomew of Wells Enterprises as the new committee chair!
X-ALT-DESC;FMTTYPE=text/html:<span style="font-family: arial\;">&nbsp\;</span>\n<div style="text-align: center\;"><strong><span style="color: rgb(64\, 63\, 66)\;"><span style="font-family: arial\,sans-serif\;"><span style="font-size: 10pt\;">The first Government Relations Committee meeting for the 2017-18 cycle is almost upon us. To kick things off\, Rep. Chris Hall\, ranking minority member of the House Appropriations Committee\, will provide us with an overview of the state budget. With a special legislative session possible\, Rep. Hall will help us make sense of where we stand with the FY17 budget\, the current FY18 budget\, and how the Legislature might approach the FY19 budget during the next session.</span></span></span></strong><br />\n&nbsp\;<br />\n<strong><span style="color: rgb(64\, 63\, 66)\;"><span style="font-family: arial\,sans-serif\;"><span style="font-size: 10pt\;">We will also map out the next several committee meetings and plan the development of the Chamber&#39\;s 2018 Legislative Agenda.<br />\n<br />\nFinally\, please welcome Lesley Bartholomew of Wells Enterprises as the new committee chair!</span></span></span></strong></div>\n
LOCATION:Siouxland Chamber of Commerce 101 Pierce Street\, Sioux City\, IA
UID:e.769.3562
SEQUENCE:3
DTSTAMP:20260420T044117Z
URL:https://directory.siouxlandchamber.com/events/details/government-relations-9-8-17-3562
END:VEVENT

END:VCALENDAR
