BEGIN:VCALENDAR
VERSION:2.0
PRODID:-//ChamberMaster//Event Calendar 2.0//EN
METHOD:PUBLISH
X-PUBLISHED-TTL:P3D
REFRESH-INTERVAL:P3D
CALSCALE:GREGORIAN
BEGIN:VEVENT
DTSTART:20170922T120000Z
DTEND:20170922T130000Z
X-MICROSOFT-CDO-ALLDAYEVENT:FALSE
SUMMARY:Government Relations 9/22/17
DESCRIPTION:This week we'll be discussing K-12 education policy and budget with the superintendent of the Sioux City School District Paul Gausman. Dr. Gausman will walk us through a quick primer on Iowa's school funding environment\, discuss the District's legislative policy agenda (and those of statewide education associations)\, and talk about current issues within the District.
X-ALT-DESC;FMTTYPE=text/html:<span style="font-family: arial\;">&nbsp\;</span>\n<div style="text-align: center\;"><font color="#403f42" face="arial\, sans-serif"><span style="font-size: 13.33px\;"><b>This week we&#39\;ll be discussing K-12 education policy and budget with the superintendent&nbsp\;of the Sioux City School District Paul Gausman. Dr. Gausman will walk us through a quick primer on Iowa&#39\;s school funding environment\, discuss the District&#39\;s legislative policy agenda (and those of statewide education associations)\, and talk about current issues within the District.</b></span></font></div>\n
LOCATION:Siouxland Chamber of Commerce 101 Pierce Street\, Sioux City\, IA
UID:e.769.3569
SEQUENCE:3
DTSTAMP:20260420T033104Z
URL:https://directory.siouxlandchamber.com/events/details/government-relations-9-22-17-3569
END:VEVENT

END:VCALENDAR
