BEGIN:VCALENDAR
VERSION:2.0
PRODID:-//ChamberMaster//Event Calendar 2.0//EN
METHOD:PUBLISH
X-PUBLISHED-TTL:P3D
REFRESH-INTERVAL:P3D
CALSCALE:GREGORIAN
BEGIN:VEVENT
DTSTART:20150508T120000Z
DTEND:20150508T130000Z
X-MICROSOFT-CDO-ALLDAYEVENT:FALSE
SUMMARY:Government Relations 5/8/15
DESCRIPTION:New Iowa Workforce Development director Beth Townsend will join us to talk about the work of her agency statewide and in Siouxland. Director Townsend is an attorney and Air Force veteran with extensive experience in effective management and her new responsibility for Iowa Workforce Development is critically important to our local employers.
X-ALT-DESC;FMTTYPE=text/html:<span style="font-family:arial\;">&nbsp\;</span>\n\n<div style="text-align:center\;"><font color="#000000" face="arial"><span style="font-size: 15px\; line-height: 23.466667175293px\;">New Iowa Workforce Development director Beth Townsend will join us to talk about the work of her agency statewide and in Siouxland. Director Townsend is an attorney and Air Force veteran with extensive experience in effective management and her new responsibility for Iowa Workforce Development is critically important to our local employers.</span></font></div>\n
LOCATION:Siouxland Chamber of Commerce 101 Pierce Street\, Sioux City\, IA
UID:e.769.2114
SEQUENCE:3
DTSTAMP:20260421T174011Z
URL:https://directory.siouxlandchamber.com/events/details/government-relations-5-8-15-05-08-2015-2114
END:VEVENT

END:VCALENDAR
