BEGIN:VCALENDAR
VERSION:2.0
PRODID:-//ChamberMaster//Event Calendar 2.0//EN
METHOD:PUBLISH
X-PUBLISHED-TTL:P3D
REFRESH-INTERVAL:P3D
CALSCALE:GREGORIAN
BEGIN:VEVENT
DTSTART:20180511T130000Z
DTEND:20180511T140000Z
X-MICROSOFT-CDO-ALLDAYEVENT:FALSE
SUMMARY:Government Relations 5/11/18
DESCRIPTION:Join us for the wrap-up of the 2018 legislative session with our local delegation to be held in the Long Lines Family Rec Center\, 3rd floor conference room.
X-ALT-DESC;FMTTYPE=text/html:<div>Join us for&nbsp\;the&nbsp\;wrap-up of the 2018&nbsp\;legislative session&nbsp\;with our local delegation to be held in the Long Lines Family Rec Center\, 3rd floor conference room.<br />\n&nbsp\;</div>\n\n<div>\n<div>&nbsp\;</div>\n</div>\n
LOCATION:Long Lines Family Rec Center 3rd floor conference room
UID:e.769.4721
SEQUENCE:3
DTSTAMP:20260420T163348Z
URL:https://directory.siouxlandchamber.com/events/details/government-relations-5-11-18-4721
END:VEVENT

END:VCALENDAR
