BEGIN:VCALENDAR
VERSION:2.0
PRODID:-//ChamberMaster//Event Calendar 2.0//EN
METHOD:PUBLISH
X-PUBLISHED-TTL:P3D
REFRESH-INTERVAL:P3D
CALSCALE:GREGORIAN
BEGIN:VEVENT
DTSTART:20180406T120000Z
DTEND:20180406T130000Z
X-MICROSOFT-CDO-ALLDAYEVENT:FALSE
SUMMARY:Government Relations 4/6/18
DESCRIPTION:Representatives Chris Hall and Tim Kacena will be our featured guests and will talk about their priorities for the session and give us the latest on the happenings within the Capitol.\n\n \n\n\nAbout Rep. Hall\n\nRepresentative Chris Hall is serving his fourth term in the Iowa House. Hall works as the Grants Coordinator at Western Iowa Tech Community College in Sioux City\, where he was born and raised. He graduated from North High School as valedictorian and stayed in Iowa to receive his undergraduate degree from Grinnell College.\n\n\n\nHall serves as Ranking Member for the House Appropriations Committee and also serves on the Commerce and Agriculture committees.\n\n\n\nHall attends First Presbyterian Church in Sioux City. He is a member of the Iowa Natural Heritage Foundation\, Rotary Club\, and Tyrian Lodge. In his free time\, he enjoys cycling and volunteering for local reading programs and the Siouxland Soup Kitchen.\n\n\n\nAbout Rep. Kacena\n\nRepresentative Tim Kacena is completing his first term in the Iowa House. He retired as a lieutenant in the Sioux City Fire Department after 33 years and is also a U.S. Army veteran.   \n\n\n\nKacena is a ranking member of the Administration & Rules Committee and also serves on the Commerce\, Labor\, Public Safety\, Veterans Affairs committees\, and the Justice Systems Appropriations Subcommittee.
X-ALT-DESC;FMTTYPE=text/html:<div><span style="font-size: 14px\;"><span style="color: rgb(64\, 63\, 66)\;"><span style="font-family: arial\,sans-serif\;">Representatives&nbsp\;Chris Hall&nbsp\;and&nbsp\;Tim Kacena&nbsp\;will be our featured guests&nbsp\;and will talk about&nbsp\;their priorities for the session and give us the latest on the happenings within the Capitol.</span></span></span><br />\n&nbsp\;</div>\n\n<div style="text-align: center\;">\n<p style="margin: 10px 0px\; padding: 0px\; text-align: left\; font-family: Arial\, Verdana\, Helvetica\, sans-serif\; font-size: 12.49px\;"><span style="font-size: 14px\;"><u><strong>About Rep. Hall</strong></u><br />\nRepresentative Chris Hall is serving his fourth term in the Iowa House. Hall works as the Grants Coordinator at Western Iowa Tech Community College in Sioux City\, where he was born and raised.&nbsp\;He graduated from North High School as valedictorian and stayed in Iowa to receive his undergraduate degree from Grinnell College.<br />\n<br />\nHall serves as Ranking Member for the House Appropriations Committee and also serves on the Commerce and Agriculture committees.<br />\n<br />\nHall attends First Presbyterian Church in Sioux City. He is a member of the Iowa Natural Heritage Foundation\, Rotary Club\, and Tyrian Lodge. In his free time\,&nbsp\;he enjoys cycling and volunteering for local reading programs and the Siouxland Soup Kitchen.<br />\n<br />\n<u><strong>About Rep. Kacena</strong></u><br />\nRepresentative Tim Kacena is completing&nbsp\;his first term in the Iowa House. He retired as a lieutenant in the Sioux City Fire Department after 33 years and&nbsp\;is also a U.S. Army veteran.&nbsp\;&nbsp\;&nbsp\;<br />\n<br />\nKacena is&nbsp\;a ranking member of the Administration &amp\; Rules Committee and also serves on the&nbsp\;Commerce\, Labor\, Public Safety\, Veterans Affairs committees\, and the Justice Systems Appropriations Subcommittee.</span><br />\n&nbsp\;</p>\n</div>\n
LOCATION:Siouxland Chamber of Commerce 101 Pierce Street\, Sioux City\, IA
UID:e.769.4678
SEQUENCE:3
DTSTAMP:20260420T145622Z
URL:https://directory.siouxlandchamber.com/events/details/government-relations-4-6-18-4678
END:VEVENT

END:VCALENDAR
