BEGIN:VCALENDAR
VERSION:2.0
PRODID:-//ChamberMaster//Event Calendar 2.0//EN
METHOD:PUBLISH
X-PUBLISHED-TTL:P3D
REFRESH-INTERVAL:P3D
CALSCALE:GREGORIAN
BEGIN:VEVENT
DTSTART:20160415T120000Z
DTEND:20160415T130000Z
X-MICROSOFT-CDO-ALLDAYEVENT:FALSE
SUMMARY:Government Relations 4/15/16
DESCRIPTION:Professional Developers of Iowa (PDI) is Iowa's leading professional organization of economic development professionals and  key partner of the Chamber in monitoring key economic development legislation in Des Moines. PDI's chief lobbyist Craig Patterson will provide an overview of PDI's legislative priorities and give us a late-in-session update.
X-ALT-DESC;FMTTYPE=text/html:<div style="text-align:center\;"><font color="#000000" face="arial"><span style="font-size: 15px\; line-height: 23.46666717529297px\;">Professional Developers of Iowa (PDI) is Iowa&#39\;s leading professional organization of economic development professionals and &nbsp\;key partner of the Chamber in monitoring key economic development legislation in Des Moines. PDI&#39\;s chief lobbyist Craig Patterson will provide an overview of PDI&#39\;s&nbsp\;legislative priorities and give us a late-in-session update.</span></font></div>\n
LOCATION:Siouxland Chamber of Commerce 101 Pierce Street\, Sioux City\, IA
UID:e.769.3251
SEQUENCE:3
DTSTAMP:20260421T201429Z
URL:https://directory.siouxlandchamber.com/events/details/government-relations-4-15-16-04-15-2016-3251
END:VEVENT

END:VCALENDAR
