BEGIN:VCALENDAR
VERSION:2.0
PRODID:-//ChamberMaster//Event Calendar 2.0//EN
METHOD:PUBLISH
X-PUBLISHED-TTL:P3D
REFRESH-INTERVAL:P3D
CALSCALE:GREGORIAN
BEGIN:VEVENT
DTSTART:20180413T120000Z
DTEND:20180413T130000Z
X-MICROSOFT-CDO-ALLDAYEVENT:FALSE
SUMMARY:Government Relations 4/13/18
DESCRIPTION:Guest speakers will include Jacob Bossman from Senator Grassley's office\, Jerry Self from Senator Ernst's office\, and Kolby DeWitt from Representative King's office to discuss top priorities within Congress.\n\n\n\nNote change of location to the Long Lines Family Rec Center\, 3rd floor conference room\, 401 Gordon Drive.
X-ALT-DESC;FMTTYPE=text/html:<span style="font-size: 16px\;"><span style="font-family: arial\;">Guest speakers will include Jacob Bossman from Senator Grassley&rsquo\;s office\, Jerry Self from Senator Ernst&rsquo\;s office\, and&nbsp\;Kolby DeWitt&nbsp\;from Representative King&rsquo\;s office to discuss top priorities within Congress.</span><br />\n<br />\n<span style="color: rgb(255\, 0\, 0)\;"><em><strong>Note change of location to the Long Lines Family Rec Center\, 3rd floor conference room\, 401 Gordon Drive.</strong></em></span></span>
LOCATION:Long Lines Family Rec Center 3rd floor conference room 401 Gordon Drive
UID:e.769.4684
SEQUENCE:3
DTSTAMP:20260420T133200Z
URL:https://directory.siouxlandchamber.com/events/details/government-relations-4-13-18-4684
END:VEVENT

END:VCALENDAR
