BEGIN:VCALENDAR
VERSION:2.0
PRODID:-//ChamberMaster//Event Calendar 2.0//EN
METHOD:PUBLISH
X-PUBLISHED-TTL:P3D
REFRESH-INTERVAL:P3D
CALSCALE:GREGORIAN
BEGIN:VEVENT
DTSTART:20150410T120000Z
DTEND:20150410T130000Z
X-MICROSOFT-CDO-ALLDAYEVENT:FALSE
SUMMARY:Government Relations 4/10/15
DESCRIPTION:There are several bills working their way through the Iowa legislature important to economic development. Please join us as Iowa Economic Development Authority board member and past chair Dave Bernstein will be on hand to talk about economic development and policy issues important to IEDA.
X-ALT-DESC;FMTTYPE=text/html:<span style="font-family:arial\;">&nbsp\;</span>\n\n<div style="text-align:center\;">\n<div style="text-align:center\;line-height:15.6pt\;"><span style="font-family:arial\,sans-serif\;"><span style="font-size:10.5pt\;">There are several bills working their way through the Iowa legislature important to economic development. Please join us as Iowa Economic Development Authority board member and past chair Dave Bernstein will be on hand to talk about economic development and policy issues important to IEDA.</span></span></div>\n</div>\n
LOCATION:Siouxland Chamber of Commerce 101 Pierce Street\, Sioux City\, IA
UID:e.769.2106
SEQUENCE:3
DTSTAMP:20260421T201203Z
URL:https://directory.siouxlandchamber.com/events/details/government-relations-4-10-15-04-10-2015-2106
END:VEVENT

END:VCALENDAR
