BEGIN:VCALENDAR
VERSION:2.0
PRODID:-//ChamberMaster//Event Calendar 2.0//EN
METHOD:PUBLISH
X-PUBLISHED-TTL:P3D
REFRESH-INTERVAL:P3D
CALSCALE:GREGORIAN
BEGIN:VEVENT
DTSTART:20160401T120000Z
DTEND:20160401T130000Z
X-MICROSOFT-CDO-ALLDAYEVENT:FALSE
SUMMARY:Government Relations 4/1/16
DESCRIPTION:Sen. Bill Anderson (R - Pierson) will be our guest. Sen. Anderson is the ranking member of the Senate Commerce committee and sits on the Agriculture\, Economic Growth\, and Ways & Means committees. With budget certain to be an active issue\, Sen. Anderson will share his thoughts on current budget discussions as well as issues important to him and his district.
X-ALT-DESC;FMTTYPE=text/html:<span style="font-family:arial\;">&nbsp\;</span>\n\n<div style="text-align:center\;"><font color="#000000" face="arial"><span style="font-size: 15px\; line-height: 23.466667175293px\;">Sen. Bill Anderson (R - Pierson) will be our guest. Sen. Anderson is the ranking member of the Senate Commerce committee and sits on the Agriculture\, Economic Growth\, and Ways &amp\; Means committees. With budget certain to be an active issue\, Sen. Anderson will share his thoughts on current budget discussions as well as issues important to him and his district.</span></font></div>\n
LOCATION:Siouxland Chamber of Commerce 101 Pierce Street\, Sioux City\, IA
UID:e.769.3243
SEQUENCE:3
DTSTAMP:20260421T185242Z
URL:https://directory.siouxlandchamber.com/events/details/government-relations-4-1-16-04-01-2016-3243
END:VEVENT

END:VCALENDAR
