BEGIN:VCALENDAR
VERSION:2.0
PRODID:-//ChamberMaster//Event Calendar 2.0//EN
METHOD:PUBLISH
X-PUBLISHED-TTL:P3D
REFRESH-INTERVAL:P3D
CALSCALE:GREGORIAN
BEGIN:VEVENT
DTSTART:20150306T130000Z
DTEND:20150306T140000Z
X-MICROSOFT-CDO-ALLDAYEVENT:FALSE
SUMMARY:Government Relations 3/6/15
DESCRIPTION:Special guest Rep. Chuck Soderberg\, Chair of the House Appropriations Committee will be joining us to talk about the Iowa budget and other policy topics important to Siouxland.
X-ALT-DESC;FMTTYPE=text/html:&nbsp\;\n<ol>\n	<li><font color="#000000"><span style="font-size: 14.6666669845581px\; line-height: 23.466667175293px\;">Special guest Rep. Chuck Soderberg\, Chair of the House Appropriations Committee will be joining us to talk about the Iowa budget and other policy topics important to Siouxland.</span></font></li>\n</ol>\n
LOCATION:Siouxland Chamber of Commerce 101 Pierce Street\, Sioux City\, IA
UID:e.769.2096
SEQUENCE:3
DTSTAMP:20260421T214435Z
URL:https://directory.siouxlandchamber.com/events/details/government-relations-3-6-15-03-06-2015-2096
END:VEVENT

END:VCALENDAR
