BEGIN:VCALENDAR
VERSION:2.0
PRODID:-//ChamberMaster//Event Calendar 2.0//EN
METHOD:PUBLISH
X-PUBLISHED-TTL:P3D
REFRESH-INTERVAL:P3D
CALSCALE:GREGORIAN
BEGIN:VEVENT
DTSTART:20160304T130000Z
DTEND:20160304T140000Z
X-MICROSOFT-CDO-ALLDAYEVENT:FALSE
SUMMARY:Government Relations 3/4/16
DESCRIPTION:The Iowa Association of Business and Industry (ABI) is the voice of industry in the Iowa Legislature and an ally of the Chamber's in Des Moines. ABI's chief lobbyist\, Nicole Crain\,  will present ABI's legislative agenda and engage in a substantive discussion of the Iowa budget\, business climate\, and economic development issues.
X-ALT-DESC;FMTTYPE=text/html:<font face="arial">The Iowa Association of Business and Industry (ABI) is the voice&nbsp\;of industry in the Iowa Legislature and an ally of the Chamber&#39\;s in Des Moines. ABI&#39\;s chief lobbyist\, Nicole Crain\, &nbsp\;will present ABI&#39\;s legislative agenda and engage in a substantive discussion of the Iowa budget\, business climate\, and economic development issues.</font>
LOCATION:Siouxland Chamber of Commerce 101 Pierce Street\, Sioux City\, IA
UID:e.769.3221
SEQUENCE:3
DTSTAMP:20260421T185242Z
URL:https://directory.siouxlandchamber.com/events/details/government-relations-3-4-16-03-04-2016-3221
END:VEVENT

END:VCALENDAR
