BEGIN:VCALENDAR
VERSION:2.0
PRODID:-//ChamberMaster//Event Calendar 2.0//EN
METHOD:PUBLISH
X-PUBLISHED-TTL:P3D
REFRESH-INTERVAL:P3D
CALSCALE:GREGORIAN
BEGIN:VEVENT
DTSTART:20180323T120000Z
DTEND:20180323T130000Z
X-MICROSOFT-CDO-ALLDAYEVENT:FALSE
SUMMARY:Government Relations 3/23/18
DESCRIPTION:Senator Rick Bertrand will be our guest speaker and will talk about the 2018 session as well as happenings in the Iowa State Legislature.\n\n \n\nAbout Sen. Bertrand \n\nSenator Rick Bertrand was born and raised on a small farm on the Northeast edge of Sioux City.  He graduated from the University of Northern Iowa in 1993 where he studied economics and political science.  Senator Bertrand also earned his master's in organizational leadership from Bellevue University in the fall of 2016. Senator Bertrand and his wife\, Tammy\, were married in 1998 and are blessed with three children.\n \n\nSenator Bertrand is an established entrepreneur and commercial developer at the local\, national\, and international level.
X-ALT-DESC;FMTTYPE=text/html:<div><span><span>Senator Rick Bertrand&nbsp\;will be our guest speaker and will talk about the 2018 session as well as happenings in the Iowa State Legislature.</span></span><br />\n&nbsp\;</div>\n\n<div><span><strong>About Sen. Bertrand</strong> </span>\n\n<div><span>Senator Rick Bertrand was born and raised on a small farm on the Northeast edge of Sioux City. &nbsp\;He graduated from the University of Northern Iowa in 1993 where he studied economics and political science. &nbsp\;Senator Bertrand also earned his master&#39\;s in organizational leadership from Bellevue University in the fall of 2016. Senator Bertrand and his wife\, Tammy\, were married in 1998 and are blessed with three children.</span></div>\n&nbsp\;\n\n<div><span>Senator Bertrand is an established entrepreneur and commercial developer at the local\, national\, and international level.</span></div>\n</div>\n
LOCATION:Siouxland Chamber of Commerce Board Room
UID:e.769.4668
SEQUENCE:3
DTSTAMP:20260420T133153Z
URL:https://directory.siouxlandchamber.com/events/details/government-relations-3-23-18-4668
END:VEVENT

END:VCALENDAR
