BEGIN:VCALENDAR
VERSION:2.0
PRODID:-//ChamberMaster//Event Calendar 2.0//EN
METHOD:PUBLISH
X-PUBLISHED-TTL:P3D
REFRESH-INTERVAL:P3D
CALSCALE:GREGORIAN
BEGIN:VEVENT
DTSTART:20150320T120000Z
DTEND:20150320T130000Z
X-MICROSOFT-CDO-ALLDAYEVENT:FALSE
SUMMARY:Government Relations 3/20/15
DESCRIPTION:Our guest will be Rep. Ron Jorgensen\, chair of the House Education Committee who will talk about policy initiatives he is working on and the Iowa legislative session.
X-ALT-DESC;FMTTYPE=text/html:<span style="font-family:arial\;">&nbsp\;</span>\n\n<div style="text-align:center\;"><font color="#000000" face="arial"><span style="font-size: 15px\; line-height: 23.466667175293px\;">Our guest will be Rep. Ron Jorgensen\, chair of the House Education Committee who will talk about policy initiatives he is working on and the Iowa legislative&nbsp\;session.</span></font></div>\n
LOCATION:Siouxland Chamber of Commerce 101 Pierce Street\, Sioux City\, IA
UID:e.769.2101
SEQUENCE:3
DTSTAMP:20260421T201254Z
URL:https://directory.siouxlandchamber.com/events/details/government-relations-3-20-15-03-20-2015-2101
END:VEVENT

END:VCALENDAR
