BEGIN:VCALENDAR
VERSION:2.0
PRODID:-//ChamberMaster//Event Calendar 2.0//EN
METHOD:PUBLISH
X-PUBLISHED-TTL:P3D
REFRESH-INTERVAL:P3D
CALSCALE:GREGORIAN
BEGIN:VEVENT
DTSTART:20160318T120000Z
DTEND:20160318T130000Z
X-MICROSOFT-CDO-ALLDAYEVENT:FALSE
SUMMARY:Government Relations 3/18/16
DESCRIPTION:Rep. Chris Hall (D - Sioux City) will be our guest. Rep. Hall is the ranking minority member on the House Appropriations Committee and also serves on the House Commerce and Natural Resource Committees. Revised revenue estimates should be released by Rep. Hall's visit\, so we'll look forward to an interesting budget discussion.
X-ALT-DESC;FMTTYPE=text/html:<span style="font-family:arial\;">&nbsp\;</span>\n\n<div style="text-align:center\;"><font color="#000000" face="arial"><span style="font-size: 15px\; line-height: 23.466667175293px\;">Rep. Chris Hall (D - Sioux City) will be our guest. Rep. Hall is the ranking minority member on the House Appropriations Committee and also serves on the House Commerce and Natural Resource Committees. Revised revenue estimates should be released by Rep. Hall&#39\;s visit\, so we&#39\;ll look forward to an interesting budget discussion.</span></font></div>\n
LOCATION:Siouxland Chamber of Commerce 101 Pierce Street\, Sioux City\, IA
UID:e.769.3236
SEQUENCE:3
DTSTAMP:20260421T184509Z
URL:https://directory.siouxlandchamber.com/events/details/government-relations-3-18-16-03-18-2016-3236
END:VEVENT

END:VCALENDAR
