BEGIN:VCALENDAR
VERSION:2.0
PRODID:-//ChamberMaster//Event Calendar 2.0//EN
METHOD:PUBLISH
X-PUBLISHED-TTL:P3D
REFRESH-INTERVAL:P3D
CALSCALE:GREGORIAN
BEGIN:VEVENT
DTSTART:20180209T130000Z
DTEND:20180209T140000Z
X-MICROSOFT-CDO-ALLDAYEVENT:FALSE
SUMMARY:Government Relations 2/9/16
DESCRIPTION:Tax Environment 2018\n\n\n\nThe Tax Cuts and Jobs Act \, recently passed by Congress\, contains provisions that affect nearly every business and individual in the country\, as well as Iowa's revenues and potential state tax reform initiatives. Jerry Self from Sen. Joni Ernst's office will provide a program detailing this recently passed legislation that makes such significant changes to the US tax environment\,
X-ALT-DESC;FMTTYPE=text/html:<span style="font-family:arial\;">&nbsp\;</span>\n<div style="text-align:center\;"><font color="#403f42" face="arial\, sans-serif"><span style="font-size: 13.3333px\;">Tax Environment 2018</span></font><br />\n<br />\nThe Tax Cuts and Jobs Act \, recently passed by Congress\, contains provisions that affect nearly every business and individual in the country\,&nbsp\;<span style="text-align: center\;">as well as Iowa&#39\;s revenues and potential state tax reform&nbsp\;</span>initiatives<span style="text-align: center\;">.</span>&nbsp\;Jerry Self from Sen. Joni Ernst&#39\;s office will provide a program detailing this recently passed legislation that makes such significant&nbsp\;changes to the US tax environment\,&nbsp\;<br />\n<br />\n&nbsp\;</div>\n
LOCATION:Siouxland Chamber of Commerce 101 Pierce Street\, Sioux City\, IA
UID:e.769.4648
SEQUENCE:3
DTSTAMP:20260420T104901Z
URL:https://directory.siouxlandchamber.com/events/details/government-relations-2-9-16-4648
END:VEVENT

END:VCALENDAR
