BEGIN:VCALENDAR
VERSION:2.0
PRODID:-//ChamberMaster//Event Calendar 2.0//EN
METHOD:PUBLISH
X-PUBLISHED-TTL:P3D
REFRESH-INTERVAL:P3D
CALSCALE:GREGORIAN
BEGIN:VEVENT
DTSTART:20150206T130000Z
DTEND:20150206T140000Z
X-MICROSOFT-CDO-ALLDAYEVENT:FALSE
SUMMARY:Government Relations 2/6/15
DESCRIPTION:As the 2015 Iowa legislative session heats up\, we will be joined by Reps. Chris Hall and Dave Dawson who will give their perspectives on the session thus far\, and recap for our members their agendas for 2015.\n	Chamber staff and attendees of the 39th Chamber Des Moines Legislative Day will provide a recap of their day at the Capitol.
X-ALT-DESC;FMTTYPE=text/html:&nbsp\;\n<ol>\n	<li><font color="#000000"><span style="font-size: 14.6666669845581px\; line-height: 23.466667175293px\;">As the 2015 Iowa legislative session heats&nbsp\;up\, we will be joined by Reps. Chris Hall and Dave Dawson who will give their perspectives on the session thus far\, and recap for our members their agendas for 2015.</span></font></li>\n	<li><font color="#000000"><span style="font-size: 14.6666669845581px\; line-height: 23.466667175293px\;">Chamber staff and attendees of the 39th Chamber Des Moines Legislative Day will provide a recap of their day at the Capitol.</span></font></li>\n</ol>\n
LOCATION:Siouxland Chamber of Commerce 101 Pierce Street\, Sioux City\, IA
UID:e.769.2089
SEQUENCE:3
DTSTAMP:20260421T214351Z
URL:https://directory.siouxlandchamber.com/events/details/government-relations-2-6-15-02-06-2015-2089
END:VEVENT

END:VCALENDAR
