BEGIN:VCALENDAR
VERSION:2.0
PRODID:-//ChamberMaster//Event Calendar 2.0//EN
METHOD:PUBLISH
X-PUBLISHED-TTL:P3D
REFRESH-INTERVAL:P3D
CALSCALE:GREGORIAN
BEGIN:VEVENT
DTSTART:20160205T130000Z
DTEND:20160205T140000Z
X-MICROSOFT-CDO-ALLDAYEVENT:FALSE
SUMMARY:Government Relations 2/5/16
DESCRIPTION:Rep. David Dawson (D - Sioux City) will be our guest. Rep. Dawson will talk about legislative issues that he is working on\, and provide an update of legislative topics driving the debate in Des Moines. Meetings are highly interactive\, so bring your questions!
X-ALT-DESC;FMTTYPE=text/html:<span style="font-family:arial\;">&nbsp\;</span>\n\n<div style="text-align:center\;"><font color="#000000" face="arial"><span style="font-size: 15px\; line-height: 23.466667175293px\;">Rep. David Dawson (D - Sioux City) will be our guest. Rep. Dawson will talk about legislative issues that he is working on\, and provide an update of legislative topics driving the debate in Des Moines. Meetings are highly interactive\, so bring your questions!</span></font></div>\n
LOCATION:Siouxland Chamber of Commerce 101 Pierce Street\, Sioux City\, IA
UID:e.769.3218
SEQUENCE:3
DTSTAMP:20260421T173905Z
URL:https://directory.siouxlandchamber.com/events/details/government-relations-2-5-16-02-05-2016-3218
END:VEVENT

END:VCALENDAR
