BEGIN:VCALENDAR
VERSION:2.0
PRODID:-//ChamberMaster//Event Calendar 2.0//EN
METHOD:PUBLISH
X-PUBLISHED-TTL:P3D
REFRESH-INTERVAL:P3D
CALSCALE:GREGORIAN
BEGIN:VEVENT
DTSTART:20180223T130000Z
DTEND:20180223T140000Z
X-MICROSOFT-CDO-ALLDAYEVENT:FALSE
SUMMARY:Government Relations 2/23/18
DESCRIPTION:Sen. Jim Carlin is our guest speaker and will talk about the 2018 session as well as bills and issues important to him.\n\n\n\nAbout Sen. Jim Carlin\n\nJim Carlin is serving his first term in the Iowa Senate.\n\nJim has been a resident of Sioux City and an attorney there for over 23 years.  He is a veteran of the United States Army.\n\n\n\nJim's been involved with the Woodbury County Republican Central Committee\, the Sioux City Men of Valor Bible Study\, and the Morningside Assembly of God church.  He's been a School Board member of Siouxland Community Christian School.  He's volunteered as a nursing home visitation and also with Dismas Charities.  He was a part-time assistant coach for the Morningside College football team and a youth basketball coach of Upward Sports.  Jim's a member of the Siouxland Chamber of Commerce\, the National Federation of Independent Business (NFIB)\, the National Rifle Association (NRA)\, and the American Legion.\n\n\n\nJim and his wife\, Donna\, have been married for 20 years and together raised three children\, Wesley\, Whitney\, and Hannah.  They are the proud grandparents of Bennett\, Anne\, and Clara.\n\n\n\nCommittees: Administrative Rules Review\, Natural Resources\, State Government\, Transportation\, Ways & Means
X-ALT-DESC;FMTTYPE=text/html:<span style="font-family: arial\;">&nbsp\;</span>\n<div style="text-align: center\;"><span style="font-size: 12px\;"><span style="font-family: arial\;"><font color="#403f42"><span style="font-size: 14px\;">Sen. Jim Carlin is our guest speaker and will talk about the 2018 session as well as bills and issues important to him.</span><br />\n<br />\n<span style="font-size: 14px\;"><strong>About Sen. Jim Carlin</strong></span></font><br />\n<span style="font-size: 14px\;"><span style="color: black\;">Jim Carlin is serving his first term in the Iowa Senate.</span><br />\n<span style="color: black\;">Jim has been a resident of Sioux City and an attorney there for over 23 years.&nbsp\; He is a veteran of the United States Army.</span><br />\n<br />\n<span style="color: black\;">Jim&rsquo\;s been involved with the Woodbury County Republican Central Committee\, the Sioux City Men of Valor Bible Study\, and the Morningside Assembly of God church.&nbsp\; He&rsquo\;s been a School Board member of Siouxland Community Christian School.&nbsp\; He&rsquo\;s volunteered as a nursing home visitation and also with Dismas Charities.&nbsp\; He was a part-time assistant coach for the Morningside College football team and a youth basketball coach of Upward Sports.&nbsp\; Jim&rsquo\;s a member of the Siouxland Chamber of Commerce\, the National Federation of Independent Business (NFIB)\, the National Rifle Association (NRA)\, and the American Legion.</span><br />\n<br />\n<span style="color: black\;">Jim and his wife\, Donna\, have been married for 20 years and together raised three children\, Wesley\, Whitney\, and Hannah.&nbsp\; They are the proud grandparents of Bennett\, Anne\, and Clara.</span><br />\n<br />\n<span style="color: black\;">Committees: Administrative Rules Review\, Natural Resources\, State Government\, Transportation\, Ways &amp\; Means</span></span></span></span><br />\n&nbsp\;</div>\n
LOCATION:Siouxland Chamber of Commerce 101 Pierce Street\, Sioux City\, IA
UID:e.769.4658
SEQUENCE:3
DTSTAMP:20260420T104939Z
URL:https://directory.siouxlandchamber.com/events/details/government-relations-2-23-18-4658
END:VEVENT

END:VCALENDAR
