BEGIN:VCALENDAR
VERSION:2.0
PRODID:-//ChamberMaster//Event Calendar 2.0//EN
METHOD:PUBLISH
X-PUBLISHED-TTL:P3D
REFRESH-INTERVAL:P3D
CALSCALE:GREGORIAN
BEGIN:VEVENT
DTSTART:20150220T130000Z
DTEND:20150220T140000Z
X-MICROSOFT-CDO-ALLDAYEVENT:FALSE
SUMMARY:Government Relations 2/20/15
DESCRIPTION:Our guests will be Senator Rick Bertand (R- Sioux City) and Senator Bill Anderson (R - Pierson) who will give their perspective on the Iowa legislative session so far and what me might expect on key issues going forward.
X-ALT-DESC;FMTTYPE=text/html:<span style="font-family:arial\;">&nbsp\;</span>\n\n<div style="text-align:center\;"><font color="#000000" face="arial"><span style="font-size: 15px\; line-height: 23.466667175293px\;">Our guests will be Senator Rick Bertand (R- Sioux City) and Senator Bill Anderson (R - Pierson) who will give their perspective on the Iowa legislative session so far and what me might expect on key issues going forward.</span></font></div>\n
LOCATION:Siouxland Chamber of Commerce 101 Pierce Street\, Sioux City\, IA
UID:e.769.2095
SEQUENCE:3
DTSTAMP:20260421T214435Z
URL:https://directory.siouxlandchamber.com/events/details/government-relations-2-20-15-02-20-2015-2095
END:VEVENT

END:VCALENDAR
