BEGIN:VCALENDAR
VERSION:2.0
PRODID:-//ChamberMaster//Event Calendar 2.0//EN
METHOD:PUBLISH
X-PUBLISHED-TTL:P3D
REFRESH-INTERVAL:P3D
CALSCALE:GREGORIAN
BEGIN:VEVENT
DTSTART:20160219T130000Z
DTEND:20160219T140000Z
X-MICROSOFT-CDO-ALLDAYEVENT:FALSE
SUMMARY:Government Relations 2/19/16
DESCRIPTION:State Senator Rick Bertrand (R - Sioux City) will join us for a discussion of his legislative agenda. Topics will include economic development\, fireworks\, "stand your ground\," and others. Sen. Bertrand will also field questions from the committee in an interactive\, substantive meeting.
X-ALT-DESC;FMTTYPE=text/html:<div style="text-align:center\;"><font color="#000000" face="arial"><span style="font-size: 15px\; line-height: 23.46666717529297px\;">State Senator Rick Bertrand (R - Sioux City)&nbsp\;will join us for a discussion of his legislative agenda. Topics will include economic development\, fireworks\, &quot\;stand your ground\,&quot\; and others. Sen. Bertrand will also field questions from the committee in an interactive\, substantive meeting.</span></font></div>\n
LOCATION:Siouxland Chamber of Commerce 101 Pierce Street\, Sioux City\, IA
UID:e.769.3219
SEQUENCE:3
DTSTAMP:20260421T173911Z
URL:https://directory.siouxlandchamber.com/events/details/government-relations-2-19-16-02-19-2016-3219
END:VEVENT

END:VCALENDAR
