BEGIN:VCALENDAR
VERSION:2.0
PRODID:-//ChamberMaster//Event Calendar 2.0//EN
METHOD:PUBLISH
X-PUBLISHED-TTL:P3D
REFRESH-INTERVAL:P3D
CALSCALE:GREGORIAN
BEGIN:VEVENT
DTSTART:20190201T130000Z
DTEND:20190201T140000Z
X-MICROSOFT-CDO-ALLDAYEVENT:FALSE
SUMMARY:Government Relations 2/1/19
DESCRIPTION:Georgia Van Gundy\, Executive Director of the Iowa Business Council will be our featured guest. She will talk about the Iowa Business Council and the Council's priorities for the 2019 session. Georgia brings a wealth of experience to the table in her career in government and legislative matters\, and we anticipate a great discussion.\n\n\n\nAs the Executive Director of Iowa Business Council she leads an organization comprised of CEO's and top executives from the 23 largest employers in Iowa. The organization serves as a catalyst to elevate Iowa's long term economic vitality through global thought leadership\, research and advocacy. \n\n\n\nGeorgia graduated from Iowa State University with a degree in Finance. Prior to her position at the IBC\, she led global strategies for a Fortune 250 company. She has over 18 years' experience in the field of government relations and public affairs both in Iowa and nationally.  The early years of her career focused in the areas of banking and finance.  She is an Iowa native and has a passion for working to make Iowa a better place to live\, work and raise a family.
X-ALT-DESC;FMTTYPE=text/html:<div style="text-align: justify\;"><span style="font-size: 14px\;"><font face="arial">Georgia Van Gundy\, Executive Director of the Iowa Business Council will be our featured guest. She will talk about the Iowa Business Council and the Council&#39\;s&nbsp\;priorities&nbsp\;for the 2019 session. Georgia brings a wealth of experience to the table in her career in government and legislative matters\, and we anticipate a great discussion.</font><br />\n<br />\nAs&nbsp\;the Executive Director of Iowa Business Council&nbsp\;she leads an organization comprised of CEO&rsquo\;s and top executives from the 23 largest employers in Iowa.&nbsp\;The organization serves as a catalyst to elevate Iowa&rsquo\;s long term economic vitality through global thought leadership\, research and advocacy.&nbsp\;<br />\n<br />\nGeorgia graduated from Iowa State University with a degree in Finance.&nbsp\;Prior to her position at the IBC\, she led global strategies for a Fortune 250 company.&nbsp\;She&nbsp\;has over 18 years&rsquo\; experience in the field of government relations and public affairs both in Iowa and nationally.&nbsp\; The early years of her career focused in the areas of banking and finance.&nbsp\; She is an Iowa native and has a passion for working to make Iowa a better place to live\, work and raise a family.&nbsp\;</span></div>\n\n<div style="text-align: center\;"><br />\n<br />\n&nbsp\;</div>\n
LOCATION:Western Iowa Tech Community College Campus Robert E. Dunker Student Center\, Room W108 (use parking lot 3 and enter via entrance 12)
UID:e.769.4879
SEQUENCE:3
DTSTAMP:20260421T045535Z
URL:https://directory.siouxlandchamber.com/events/details/government-relations-2-1-19-4879
END:VEVENT

END:VCALENDAR
