BEGIN:VCALENDAR
VERSION:2.0
PRODID:-//ChamberMaster//Event Calendar 2.0//EN
METHOD:PUBLISH
X-PUBLISHED-TTL:P3D
REFRESH-INTERVAL:P3D
CALSCALE:GREGORIAN
BEGIN:VEVENT
DTSTART:20151204T130000Z
DTEND:20151204T140000Z
X-MICROSOFT-CDO-ALLDAYEVENT:FALSE
SUMMARY:Government Relations 12/4/15
DESCRIPTION:Business and community leaders\, as well as local area students\, are invited to join the Siouxland Chamber Government Relations Committee in an interactive forum to learn about fiscal challenges facing the nation and the 2016 presidential candidates. \n\n\n\nDuring this fun and interactive exercise facilitated by Sara Imhof\, Iowa's State Director   First Budget\, participants will work in small groups to discuss several policy alternatives and ultimately make recommendations to address America's deficit and growing debt.
X-ALT-DESC;FMTTYPE=text/html:<span style="font-family:times\,serif\;"><span style="font-size:15.0pt\;">Business and community leaders\, as well as local area students\, are invited to join the Siouxland Chamber Government Relations Committee in an interactive forum to learn about fiscal challenges facing the nation and the 2016 presidential candidates. </span></span><br />\n<br />\n<span style="font-family:times\,serif\;"><span style="font-size:15.0pt\;">During this fun and interactive exercise facilitated by Sara Imhof\, Iowa&rsquo\;s State Director &ndash\; <a href="http://firstbudget.org/"><span style="color:#0000FF\;">First Budget</span></a>\, participants will work in small groups to discuss several policy alternatives and ultimately make recommendations to address America&rsquo\;s deficit and growing debt.</span></span>
LOCATION:Siouxland Chamber of Commerce 101 Pierce Street\, Sioux City\, IA
UID:e.769.2190
SEQUENCE:3
DTSTAMP:20260421T143042Z
URL:https://directory.siouxlandchamber.com/events/details/government-relations-12-4-15-12-04-2015-2190
END:VEVENT

END:VCALENDAR
