BEGIN:VCALENDAR
VERSION:2.0
PRODID:-//ChamberMaster//Event Calendar 2.0//EN
METHOD:PUBLISH
X-PUBLISHED-TTL:P3D
REFRESH-INTERVAL:P3D
CALSCALE:GREGORIAN
BEGIN:VEVENT
DTSTART:20171201T130000Z
DTEND:20171201T140000Z
X-MICROSOFT-CDO-ALLDAYEVENT:FALSE
SUMMARY:Government Relations 12/1/17
DESCRIPTION:Iowa State Auditor Mary Mosiman will be our guest speaker. Auditor Mosiman is no stranger to the Chamber and she will bring her expert knowledge of Iowa state finance and budget to the Government Relations Committee.\n\n\n\nAbout Mary Mosiman\nMs. Mosiman has been serving as Iowa's Auditor of State since May 13\, 2013. Initially appointed by Governor Terry Branstad to fill the unexpired term of her predecessor\, she was elected to a full term in the November 2014 general election.\n\nPrior to serving as Auditor of State\, Ms. Mosiman served as a Deputy in the Secretary of State's Office for over 2 years\, and previously served as the elected Story County Auditor for 10 years.\n\nMs. Mosiman graduated from Iowa State University with a bachelor's degree in Business/Accounting in 1999. She is a member of the Iowa Society of Certified Public Accountants (ISCPA)\, the American Institute of Certified Public Accountants (AICPA)\, the National Association of State Auditors\, Comptrollers and Treasurers (NASACT)\, the Ames Morning Rotary\, and the Ames Chamber of Commerce.\n\nMs. Mosiman has served on several professional\, community\, and civic organization boards and committees\, including the Iowa State Association of Counties Taxation & Finance Committee\, the US Military Academy Selection Board\, the Story County United Way Nevada Community Committee\, the Ames Chapter of the American Society of Women Accountants\, the Ames Chamber of Commerce Government Affairs Committee\, and the Gilbert Education Foundation Board. She is a past-president of the Nevada Rotary Club.
X-ALT-DESC;FMTTYPE=text/html:<span style="font-family: arial\;">&nbsp\;</span>\n<div style="text-align: center\;"><span style="font-size: 14px\;"><font color="#403f42" face="arial\, sans-serif">Iowa State Auditor Mary Mosiman&nbsp\;will be our guest speaker. Auditor Mosiman is no stranger to the Chamber and she will bring her expert knowledge of Iowa state finance and budget to the Government Relations Committee.</font><br />\n<br />\n<strong>About Mary Mosiman</strong></span>\n<p style="margin: 0px 0px 1.5em\; padding: 0px\; border: 0px currentColor\; border-image: none\; font-family: &quot\;Helvetica Neue&quot\;\, sans-serif\; font-size: 16px\;"><span style="font-size: 14px\;">Ms. Mosiman has been serving as Iowa&#39\;s Auditor of State since May 13\, 2013. Initially appointed by Governor Terry Branstad to fill the unexpired term of her predecessor\, she was elected to a full term in the November 2014 general election.</span></p>\n\n<p style="margin: 0px 0px 1.5em\; padding: 0px\; border: 0px currentColor\; border-image: none\; font-family: &quot\;Helvetica Neue&quot\;\, sans-serif\; font-size: 16px\;"><span style="font-size: 14px\;">Prior to serving as Auditor of State\, Ms. Mosiman served as a Deputy in the Secretary of State&#39\;s Office for over 2 years\, and previously served as the elected Story County Auditor for 10 years.</span></p>\n\n<p style="margin: 0px 0px 1.5em\; padding: 0px\; border: 0px currentColor\; border-image: none\; font-family: &quot\;Helvetica Neue&quot\;\, sans-serif\; font-size: 16px\;"><span style="font-size: 14px\;">Ms. Mosiman graduated from Iowa State University with a bachelor&#39\;s degree in Business/Accounting in 1999. She is a member of the Iowa Society of Certified Public Accountants (ISCPA)\, the American Institute of Certified Public Accountants (AICPA)\, the National Association of State Auditors\, Comptrollers and Treasurers (NASACT)\, the Ames Morning Rotary\, and the Ames Chamber of Commerce.</span></p>\n\n<p style="margin: 0px 0px 1.5em\; padding: 0px\; border: 0px currentColor\; border-image: none\; font-family: &quot\;Helvetica Neue&quot\;\, sans-serif\; font-size: 16px\;"><span style="font-size: 14px\;">Ms. Mosiman has served on several professional\, community\, and civic organization boards and committees\, including the Iowa State Association of Counties Taxation &amp\; Finance Committee\, the US Military Academy Selection Board\, the Story County United Way Nevada Community Committee\, the Ames Chapter of the American Society of Women Accountants\, the Ames Chamber of Commerce Government Affairs Committee\, and the Gilbert Education Foundation Board. She is a past-president of the Nevada Rotary Club.</span></p>\n</div>\n
LOCATION:Siouxland Chamber of Commerce 101 Pierce Street\, Sioux City\, IA
UID:e.769.4610
SEQUENCE:3
DTSTAMP:20260420T075654Z
URL:https://directory.siouxlandchamber.com/events/details/government-relations-12-1-17-4610
END:VEVENT

END:VCALENDAR
