BEGIN:VCALENDAR
VERSION:2.0
PRODID:-//ChamberMaster//Event Calendar 2.0//EN
METHOD:PUBLISH
X-PUBLISHED-TTL:P3D
REFRESH-INTERVAL:P3D
CALSCALE:GREGORIAN
BEGIN:VEVENT
DTSTART:20161104T120000Z
DTEND:20161104T130000Z
X-MICROSOFT-CDO-ALLDAYEVENT:FALSE
SUMMARY:Government Relations 11-4-16
DESCRIPTION:We will review and revise the draft 2017 legislative agenda. Join us for a discussion of Chamber legislative priorities as it will be presented to the Chamber board and legislators. Upon approval by the Government Relations Committee\, it will be submitted to the Chamber Executive Committee and the full board on November 18th. \n\n \n\nFor a copy of the last year's agenda\, download one at:\n\n\n\nhttp://siouxlandchamber.com/wp-content/uploads/2016-Iowa-Legislative-Agenda-FINAL-.pdf \n\n \n\n\n\n\nhttp://siouxlandchamber.com/siouxland-chamber/government-relations/
X-ALT-DESC;FMTTYPE=text/html:<span style="font-family:arial\;">&nbsp\;</span>\n\n<div style="text-align:center\;">\n<div style="color: rgb(64\, 63\, 66)\; font-family: Arial\; font-size: 13.3333px\;">We will review and revise the draft 2017 legislative agenda. Join us for a discussion of Chamber legislative priorities as it will be presented to the Chamber board and legislators. Upon approval by the Government Relations Committee\, it will be submitted to the Chamber Executive Committee and the full board on November 18th.&nbsp\;</div>\n\n<div style="color: rgb(64\, 63\, 66)\; font-family: Arial\; font-size: 13.3333px\;">&nbsp\;</div>\n\n<div style="color: rgb(64\, 63\, 66)\; font-family: Arial\; font-size: 13.3333px\;">For a copy of the last year&#39\;s&nbsp\;agenda\, download one at:<br />\n<br />\n<a href="http://siouxlandchamber.com/wp-content/uploads/2016-Iowa-Legislative-Agenda-FINAL-.pdf">http://siouxlandchamber.com/wp-content/uploads/2016-Iowa-Legislative-Agenda-FINAL-.pdf&nbsp\;</a><br />\n&nbsp\;</div>\n<br />\n<br />\n<a href="http://siouxlandchamber.com/siouxland-chamber/government-relations/">http://siouxlandchamber.com/siouxland-chamber/government-relations/&nbsp\;</a></div>\n
LOCATION:Siouxland Chamber of Commerce 101 Pierce Street\, Sioux City\, IA
UID:e.769.3406
SEQUENCE:3
DTSTAMP:20260419T134144Z
URL:https://directory.siouxlandchamber.com/events/details/government-relations-11-4-16-3406
END:VEVENT

END:VCALENDAR
