BEGIN:VCALENDAR
VERSION:2.0
PRODID:-//ChamberMaster//Event Calendar 2.0//EN
METHOD:PUBLISH
X-PUBLISHED-TTL:P3D
REFRESH-INTERVAL:P3D
CALSCALE:GREGORIAN
BEGIN:VEVENT
DTSTART:20151120T130000Z
DTEND:20151120T140000Z
X-MICROSOFT-CDO-ALLDAYEVENT:FALSE
SUMMARY:Government Relations 11/20/15
DESCRIPTION:The Government Relations committee will focus on health care topics\, drawing from the expertise of two local healthcare professionals and longtime members of the committee:\n\n \n\n	Linda Kalin will provide an overview of the Iowa Statewide Poison Control Center  - what the organization does for Iowa residents and health care professionals\, and how the organization is funded with a complex mix of state and federal resources. \n	Mike Stiles of UnityPoint Health - St. Luke's will give a brief overview of issues related to Medicaid privatization in Iowa.
X-ALT-DESC;FMTTYPE=text/html:The Government Relations committee will focus on health care topics\, drawing from the expertise of two local healthcare professionals and longtime members of the committee:<br />\n&nbsp\;\n<ol>\n	<li><font face="arial">Linda Kalin will provide an overview of&nbsp\;</font><span style="font-family: arial\; line-height: 20.8px\;">the Iowa Statewide Poison Control Center &nbsp\;- what the organization does for Iowa residents and health care professionals\, and how the organization is funded with a complex mix of state and federal resources.&nbsp\;</span></li>\n	<li><span style="font-family: arial\; line-height: 20.8px\;">Mike Stiles of UnityPoint Health - St. Luke&#39\;s&nbsp\;will give a brief overview of issues related to Medicaid&nbsp\;privatization&nbsp\;in Iowa.&nbsp\;</span></li>\n</ol>\n
LOCATION:Siouxland Chamber of Commerce 101 Pierce Street\, Sioux City\, IA
UID:e.769.2185
SEQUENCE:3
DTSTAMP:20260421T130458Z
URL:https://directory.siouxlandchamber.com/events/details/government-relations-11-20-15-11-20-2015-2185
END:VEVENT

END:VCALENDAR
