BEGIN:VCALENDAR
VERSION:2.0
PRODID:-//ChamberMaster//Event Calendar 2.0//EN
METHOD:PUBLISH
X-PUBLISHED-TTL:P3D
REFRESH-INTERVAL:P3D
CALSCALE:GREGORIAN
BEGIN:VEVENT
DTSTART:20161007T120000Z
DTEND:20161007T130000Z
X-MICROSOFT-CDO-ALLDAYEVENT:FALSE
SUMMARY:Government Relations 10/7/16
DESCRIPTION:John Stineman\, Executive Director of the Iowa Chamber Alliance (ICA)\, will provide a recap of the 2016 legislative session and discuss unfinished business going into the 2017 session. The ICA is a key ally to the Chamber in Des Moines\, and John is a frequent presenter to the Government Relations Committee. His insights will be helpful as the committee turns its attention to the 2017 legislative agenda in the coming weeks. Join us!
X-ALT-DESC;FMTTYPE=text/html:<span style="font-family:arial\;">&nbsp\;</span>\n\n<div style="text-align:center\;"><font color="#000000" face="arial"><span style="font-size: 15px\; line-height: 23.466667175293px\;">John Stineman\, Executive Director of the Iowa Chamber Alliance (ICA)\, will provide a recap of the 2016 legislative session and discuss unfinished business going into the 2017 session. The ICA is a key ally to the Chamber in Des Moines\, and&nbsp\;John is a frequent presenter to the Government Relations Committee. His insights will be helpful as the committee turns its attention to the 2017 legislative agenda in the coming weeks. Join us!</span></font></div>\n
LOCATION:Siouxland Chamber of Commerce 101 Pierce Street\, Sioux City\, IA
UID:e.769.3348
SEQUENCE:3
DTSTAMP:20260421T045557Z
URL:https://directory.siouxlandchamber.com/events/details/government-relations-10-7-16-3348
END:VEVENT

END:VCALENDAR
